BEGIN:VCALENDAR
VERSION:2.0
PRODID:-//Blumenkind Floristik - ECPv6.5.0//NONSGML v1.0//EN
CALSCALE:GREGORIAN
METHOD:PUBLISH
X-WR-CALNAME:Blumenkind Floristik
X-ORIGINAL-URL:https://blumenladen-alfeld.de
X-WR-CALDESC:Veranstaltungen für Blumenkind Floristik
REFRESH-INTERVAL;VALUE=DURATION:PT1H
X-Robots-Tag:noindex
X-PUBLISHED-TTL:PT1H
BEGIN:VTIMEZONE
TZID:Europe/Berlin
BEGIN:DAYLIGHT
TZOFFSETFROM:+0100
TZOFFSETTO:+0200
TZNAME:CEST
DTSTART:20160327T010000
END:DAYLIGHT
BEGIN:STANDARD
TZOFFSETFROM:+0200
TZOFFSETTO:+0100
TZNAME:CET
DTSTART:20161030T010000
END:STANDARD
END:VTIMEZONE
BEGIN:VEVENT
DTSTART;TZID=Europe/Berlin:20161121T183000
DTEND;TZID=Europe/Berlin:20161121T203000
DTSTAMP:20260419T204817
CREATED:20161018T202001Z
LAST-MODIFIED:20161018T202423Z
UID:12301-1479753000-1479760200@blumenladen-alfeld.de
SUMMARY:Workshop\, Adventskranz aus Baumscheiben
DESCRIPTION:  \nHier wird gehämmert und gebohrt. Ein schöner kräftiger und rustikaler Adventskranz aus einfachen Baumscheiben wird hier kreiert. \nEr kann zum Hängen oder Stehen gedacht sein.
URL:https://blumenladen-alfeld.de/event/workshop-adventskranz-aus-baumscheiben/
CATEGORIES:Kurse
END:VEVENT
BEGIN:VEVENT
DTSTART;TZID=Europe/Berlin:20161120T140000
DTEND;TZID=Europe/Berlin:20161120T170000
DTSTAMP:20260419T204817
CREATED:20161018T200536Z
LAST-MODIFIED:20161018T202205Z
UID:12291-1479650400-1479661200@blumenladen-alfeld.de
SUMMARY:Adventausstellung\, 20. November
DESCRIPTION:
URL:https://blumenladen-alfeld.de/event/adventausstellung-20-november/
CATEGORIES:Ausstellungen
END:VEVENT
BEGIN:VEVENT
DTSTART;TZID=Europe/Berlin:20161119T090000
DTEND;TZID=Europe/Berlin:20161119T160000
DTSTAMP:20260419T204817
CREATED:20161018T200419Z
LAST-MODIFIED:20161018T202528Z
UID:12289-1479546000-1479571200@blumenladen-alfeld.de
SUMMARY:Adventausstellung\, 19. November
DESCRIPTION:Lassen Sie sich anstecken von der glückseligen Stimmung und Erwartung an diese Jahreszeit… \n  \nWir freuen uns auf Sie!!
URL:https://blumenladen-alfeld.de/event/adventausstellung-19-november/
CATEGORIES:Ausstellungen
END:VEVENT
BEGIN:VEVENT
DTSTART;TZID=Europe/Berlin:20161116T160000
DTEND;TZID=Europe/Berlin:20161116T170000
DTSTAMP:20260419T204817
CREATED:20161018T201612Z
LAST-MODIFIED:20161018T202610Z
UID:12297-1479312000-1479315600@blumenladen-alfeld.de
SUMMARY:Kinder- Workshop\, Papiersterne Basteln
DESCRIPTION:Für Kinder und Jugendliche\, die schon ein gutes Gefühl haben mit Scheren umzugehen. \nHier werden aus Butterbrottüten ganz tolle Sterne geschnitten.
URL:https://blumenladen-alfeld.de/event/kinder-workshop-papiersterne-basteln/
CATEGORIES:Kurse
END:VEVENT
BEGIN:VEVENT
DTSTART;TZID=Europe/Berlin:20161114T183000
DTEND;TZID=Europe/Berlin:20161114T203000
DTSTAMP:20260419T204817
CREATED:20161018T201306Z
LAST-MODIFIED:20161018T202704Z
UID:12294-1479148200-1479155400@blumenladen-alfeld.de
SUMMARY:Workshop\, Lichtelement aus Filz oder Naturmaterial
DESCRIPTION:  \nWir erstellen auf eine Holzplatte aus Naturmaterialien oder Filz und Schurwolle\, beleuchtete Elemente. \n  \nHierzu bitte eine schöne Holzplatte und einen Werkzeug- Tacker mit ordentlich Munition mitbringen!
URL:https://blumenladen-alfeld.de/event/workshop-lichtelement-aus-filz-oder-naturmaterial/
CATEGORIES:Kurse
END:VEVENT
BEGIN:VEVENT
DTSTART;TZID=Europe/Berlin:20161113T130000
DTEND;TZID=Europe/Berlin:20161113T160000
DTSTAMP:20260419T204817
CREATED:20161018T200113Z
LAST-MODIFIED:20161018T202917Z
UID:12288-1479042000-1479052800@blumenladen-alfeld.de
SUMMARY:Adventausstellung\, 13. November
DESCRIPTION:
URL:https://blumenladen-alfeld.de/event/adventausstellung-13-november/
CATEGORIES:Ausstellungen
END:VEVENT
BEGIN:VEVENT
DTSTART;TZID=Europe/Berlin:20161112T090000
DTEND;TZID=Europe/Berlin:20161112T160000
DTSTAMP:20260419T204817
CREATED:20161018T195945Z
LAST-MODIFIED:20161018T203000Z
UID:12286-1478941200-1478966400@blumenladen-alfeld.de
SUMMARY:Adventausstellung\, 12. November
DESCRIPTION:Endlich beginnt die Zeit froher Erwartung… \nWir freuen uns Ihnen die Trends vorstellen zu dürfen… \nLassen Sie sich inspirieren und in Stimmung bringen…
URL:https://blumenladen-alfeld.de/event/adventausstellung-12-november/
CATEGORIES:Ausstellungen
END:VEVENT
BEGIN:VEVENT
DTSTART;TZID=Europe/Berlin:20161107T183000
DTEND;TZID=Europe/Berlin:20161107T200000
DTSTAMP:20260419T204817
CREATED:20161018T200922Z
LAST-MODIFIED:20161018T203051Z
UID:12292-1478543400-1478548800@blumenladen-alfeld.de
SUMMARY:Workshop\, edler- gewachster Tannenbaum
DESCRIPTION:Wir stellen interessante Tannenbäume aus verschiedenen Naturmaterialien her\, die hinterher einen edlen Teint aus Wachs erhalten.
URL:https://blumenladen-alfeld.de/event/workshop-edler-gewachster-tannenbaum/
CATEGORIES:Kurse
END:VEVENT
BEGIN:VEVENT
DTSTART;TZID=Europe/Berlin:20161022T100000
DTEND;TZID=Europe/Berlin:20161022T160000
DTSTAMP:20260419T204817
CREATED:20161018T195343Z
LAST-MODIFIED:20161018T202813Z
UID:12284-1477130400-1477152000@blumenladen-alfeld.de
SUMMARY:Herbstausstellung am 22. Oktober
DESCRIPTION:Wir präsentieren den Herbst mit all seinen Farben\, Düften\, Formen. \nLassen Sie sich inspirieren und holen sich ein Stück Gemütlichkeit nach Hause. \n  \nUnsere üppige Garden- Girls Heide bieten wir als Angebot für Sie an. 1\,49 €\,- statt 3\,90 € \n  \nWir freuen uns auf Sie\, bei Gebäck und Kaffee…
URL:https://blumenladen-alfeld.de/event/herbstausstellung-am-22-oktober/
CATEGORIES:Ausstellungen
END:VEVENT
END:VCALENDAR